Workbook

Sheet Active Users
A1: User ID | B1: Email | C1: Full Name | D1: Last Logged In
D2: =IF(A2="","",VLOOKUP(A2,'Login SQL Output'!A:B,2,FALSE)) | E2: =IF(A2="","","SELECT objectid UserGUID, max(createdon) LastLogin FROM audit WHERE createdon > '01-JAN-2024' AND objectid = '" & A2& "' AND action = 64 GROUP BY objectid " &IF(A3="",""," union "))
D3: =IF(A3="","",VLOOKUP(A3,'Login SQL Output'!A:B,2,FALSE)) | E3: =IF(A3="","","SELECT objectid UserGUID, max(createdon) LastLogin FROM audit WHERE createdon > '01-JAN-2024' AND objectid = '" & A3& "' AND action = 64 GROUP BY objectid " &IF(A4="",""," union "))
D4: =IF(A4="","",VLOOKUP(A4,'Login SQL Output'!A:B,2,FALSE)) | E4: =IF(A4="","","SELECT objectid UserGUID, max(createdon) LastLogin FROM audit WHERE createdon > '01-JAN-2024' AND objectid = '" & A4& "' AND action = 64 GROUP BY objectid " &IF(A5="",""," union "))
D5: =IF(A5="","",VLOOKUP(A5,'Login SQL Output'!A:B,2,FALSE)) | E5: =IF(A5="","","SELECT objectid UserGUID, max(createdon) LastLogin FROM audit WHERE createdon > '01-JAN-2024' AND objectid = '" & A5& "' AND action = 64 GROUP BY objectid " &IF(A6="",""," union "))
D6: =IF(A6="","",VLOOKUP(A6,'Login SQL Output'!A:B,2,FALSE)) | E6: =IF(A6="","","SELECT objectid UserGUID, max(createdon) LastLogin FROM audit WHERE createdon > '01-JAN-2024' AND objectid = '" & A6& "' AND action = 64 GROUP BY objectid " &IF(A7="",""," union "))
D7: =IF(A7="","",VLOOKUP(A7,'Login SQL Output'!A:B,2,FALSE)) | E7: =IF(A7="","","SELECT objectid UserGUID, max(createdon) LastLogin FROM audit WHERE createdon > '01-JAN-2024' AND objectid = '" & A7& "' AND action = 64 GROUP BY objectid " &IF(A8="",""," union "))
D8: =IF(A8="","",VLOOKUP(A8,'Login SQL Output'!A:B,2,FALSE)) | E8: =IF(A8="","","SELECT objectid UserGUID, max(createdon) LastLogin FROM audit WHERE createdon > '01-JAN-2024' AND objectid = '" & A8& "' AND action = 64 GROUP BY objectid " &IF(A9="",""," union "))
D9: =IF(A9="","",VLOOKUP(A9,'Login SQL Output'!A:B,2,FALSE)) | E9: =IF(A9="","","SELECT objectid UserGUID, max(createdon) LastLogin FROM audit WHERE createdon > '01-JAN-2024' AND objectid = '" & A9& "' AND action = 64 GROUP BY objectid " &IF(A10="",""," union "))
D10: =IF(A10="","",VLOOKUP(A10,'Login SQL Output'!A:B,2,FALSE)) | E10: =IF(A10="","","SELECT objectid UserGUID, max(createdon) LastLogin FROM audit WHERE createdon > '01-JAN-2024' AND objectid = '" & A10& "' AND action = 64 GROUP BY objectid " &IF(A11="",""," union "))
D11: =IF(A11="","",VLOOKUP(A11,'Login SQL Output'!A:B,2,FALSE)) | E11: =IF(A11="","","SELECT objectid UserGUID, max(createdon) LastLogin FROM audit WHERE createdon > '01-JAN-2024' AND objectid = '" & A11& "' AND action = 64 GROUP BY objectid " &IF(A12="",""," union "))
D12: =IF(A12="","",VLOOKUP(A12,'Login SQL Output'!A:B,2,FALSE)) | E12: =IF(A12="","","SELECT objectid UserGUID, max(createdon) LastLogin FROM audit WHERE createdon > '01-JAN-2024' AND objectid = '" & A12& "' AND action = 64 GROUP BY objectid " &IF(A13="",""," union "))
D13: =IF(A13="","",VLOOKUP(A13,'Login SQL Output'!A:B,2,FALSE)) | E13: =IF(A13="","","SELECT objectid UserGUID, max(createdon) LastLogin FROM audit WHERE createdon > '01-JAN-2024' AND objectid = '" & A13& "' AND action = 64 GROUP BY objectid " &IF(A14="",""," union "))
... D1999: =IF(A1999="","",VLOOKUP(A1999,'Login SQL Output'!A:B,2,FALSE)) | E1999: =IF(A1999="","","SELECT objectid UserGUID, max(createdon) LastLogin FROM audit WHERE createdon > '01-JAN-2024' AND objectid = '" & A1999& "' AND action = 64 GROUP BY objectid " &IF(A2000="",""," union "))
E2000: =IF(A2000="","","SELECT objectid UserGUID, max(createdon) LastLogin FROM audit WHERE createdon > '01-JAN-2024' AND objectid = '" & A2000& "' AND action = 64 GROUP BY objectid " &IF(A2001="",""," union "))

Sheet Login SQL Output
A1: UserGUID | B1: Last Logged In
